BEGIN:VCALENDAR
VERSION:2.0
PRODID:-//Comics Pamplona - ECPv6.15.17//NONSGML v1.0//EN
CALSCALE:GREGORIAN
METHOD:PUBLISH
X-WR-CALNAME:Comics Pamplona
X-ORIGINAL-URL:https://www.comicspamplona.com
X-WR-CALDESC:Eventos para Comics Pamplona
REFRESH-INTERVAL;VALUE=DURATION:PT1H
X-Robots-Tag:noindex
X-PUBLISHED-TTL:PT1H
BEGIN:VTIMEZONE
TZID:Europe/Madrid
BEGIN:DAYLIGHT
TZOFFSETFROM:+0100
TZOFFSETTO:+0200
TZNAME:CEST
DTSTART:20240331T010000
END:DAYLIGHT
BEGIN:STANDARD
TZOFFSETFROM:+0200
TZOFFSETTO:+0100
TZNAME:CET
DTSTART:20241027T010000
END:STANDARD
BEGIN:DAYLIGHT
TZOFFSETFROM:+0100
TZOFFSETTO:+0200
TZNAME:CEST
DTSTART:20250330T010000
END:DAYLIGHT
BEGIN:STANDARD
TZOFFSETFROM:+0200
TZOFFSETTO:+0100
TZNAME:CET
DTSTART:20251026T010000
END:STANDARD
BEGIN:DAYLIGHT
TZOFFSETFROM:+0100
TZOFFSETTO:+0200
TZNAME:CEST
DTSTART:20260329T010000
END:DAYLIGHT
BEGIN:STANDARD
TZOFFSETFROM:+0200
TZOFFSETTO:+0100
TZNAME:CET
DTSTART:20261025T010000
END:STANDARD
END:VTIMEZONE
BEGIN:VEVENT
DTSTART;TZID=Europe/Madrid:20251001T180000
DTEND;TZID=Europe/Madrid:20251001T203000
DTSTAMP:20260420T145356
CREATED:20250927T180342Z
LAST-MODIFIED:20250927T180532Z
UID:1834-1759341600-1759350600@www.comicspamplona.com
SUMMARY:Star Wars Unlimited - Partidas casuales
DESCRIPTION:
URL:https://www.comicspamplona.com/evento/star-wars-unlimited-partidas-casuales/
LOCATION:Comics Pamplona\, Inigo Arista 24 trasera\, Pamplona\, NAVARRA\, 31007\, España
CATEGORIES:Star Wars
ATTACH;FMTTYPE=image/jpeg:https://www.comicspamplona.com/wp-content/uploads/2025/09/eventos_starwarsunlimited_banner.jpg
END:VEVENT
BEGIN:VEVENT
DTSTART;TZID=Europe/Madrid:20251022T180000
DTEND;TZID=Europe/Madrid:20251022T203000
DTSTAMP:20260420T145356
CREATED:20251020T202913Z
LAST-MODIFIED:20251020T202913Z
UID:1871-1761156000-1761165000@www.comicspamplona.com
SUMMARY:Star Wars Unlimited partidas casuales
DESCRIPTION:
URL:https://www.comicspamplona.com/evento/star-wars-unlimited-partidas-casuales-2/
LOCATION:Comics Pamplona\, Inigo Arista 24 trasera\, Pamplona\, NAVARRA\, 31007\, España
CATEGORIES:Star Wars
ATTACH;FMTTYPE=image/jpeg:https://www.comicspamplona.com/wp-content/uploads/2025/09/eventos_starwarsunlimited_banner.jpg
END:VEVENT
END:VCALENDAR